BEGIN:VCALENDAR
VERSION:2.0
PRODID:-//Price Chopper - Market 32 - ECPv6.15.18//NONSGML v1.0//EN
CALSCALE:GREGORIAN
METHOD:PUBLISH
X-WR-CALNAME:Price Chopper - Market 32
X-ORIGINAL-URL:https://www.pricechopper.com
X-WR-CALDESC:Events for Price Chopper - Market 32
REFRESH-INTERVAL;VALUE=DURATION:PT1H
X-Robots-Tag:noindex
X-PUBLISHED-TTL:PT1H
BEGIN:VTIMEZONE
TZID:America/New_York
BEGIN:DAYLIGHT
TZOFFSETFROM:-0500
TZOFFSETTO:-0400
TZNAME:EDT
DTSTART:20210314T070000
END:DAYLIGHT
BEGIN:STANDARD
TZOFFSETFROM:-0400
TZOFFSETTO:-0500
TZNAME:EST
DTSTART:20211107T060000
END:STANDARD
BEGIN:DAYLIGHT
TZOFFSETFROM:-0500
TZOFFSETTO:-0400
TZNAME:EDT
DTSTART:20220313T070000
END:DAYLIGHT
BEGIN:STANDARD
TZOFFSETFROM:-0400
TZOFFSETTO:-0500
TZNAME:EST
DTSTART:20221106T060000
END:STANDARD
BEGIN:DAYLIGHT
TZOFFSETFROM:-0500
TZOFFSETTO:-0400
TZNAME:EDT
DTSTART:20230312T070000
END:DAYLIGHT
BEGIN:STANDARD
TZOFFSETFROM:-0400
TZOFFSETTO:-0500
TZNAME:EST
DTSTART:20231105T060000
END:STANDARD
BEGIN:DAYLIGHT
TZOFFSETFROM:-0500
TZOFFSETTO:-0400
TZNAME:EDT
DTSTART:20240310T070000
END:DAYLIGHT
BEGIN:STANDARD
TZOFFSETFROM:-0400
TZOFFSETTO:-0500
TZNAME:EST
DTSTART:20241103T060000
END:STANDARD
BEGIN:DAYLIGHT
TZOFFSETFROM:-0500
TZOFFSETTO:-0400
TZNAME:EDT
DTSTART:20250309T070000
END:DAYLIGHT
BEGIN:STANDARD
TZOFFSETFROM:-0400
TZOFFSETTO:-0500
TZNAME:EST
DTSTART:20251102T060000
END:STANDARD
END:VTIMEZONE
BEGIN:VEVENT
DTSTART;TZID=America/New_York:20231201T000000
DTEND;TZID=America/New_York:20231223T235959
DTSTAMP:20260422T162616
CREATED:20231129T132946Z
LAST-MODIFIED:20231129T132947Z
UID:292909-1701388800-1703375999@www.pricechopper.com
SUMMARY:The Best Christmas Pageant Ever
DESCRIPTION:Save 30% with code “MARKET32” on tickets to The Best Christmas Pageant Ever at Cohoes Music Hall\, every Friday through Sunday until December 23. For more information and showtimes\, visit www.thecohoesmusichall.org/events.
URL:https://www.pricechopper.com/event/the-best-christmas-pageant-ever/
LOCATION:Cohoes Music Hall\, 58 Remsen Street\, Cohoes\, New York\, 12407\, United States
CATEGORIES:Discounts
ATTACH;FMTTYPE=image/jpeg:https://www.pricechopper.com/wp-content/uploads/2023/11/CohoesMusicHall_WorstChristmasPageant_web_23.jpg
END:VEVENT
BEGIN:VEVENT
DTSTART;TZID=America/New_York:20231029T000000
DTEND;TZID=America/New_York:20240419T235959
DTSTAMP:20260422T162616
CREATED:20231102T140828Z
LAST-MODIFIED:20231102T140829Z
UID:292808-1698537600-1713571199@www.pricechopper.com
SUMMARY:Syracuse Crunch Hockey
DESCRIPTION:Price Chopper/Market 32 is proud to support the Syracuse Crunch! Save over $10 on select home games when you present your Advantedge card at the box office!October 14October 27November 24December 23January 13February 24March 15April 12Visit syracusecrunch.com for details! 
URL:https://www.pricechopper.com/event/syracuse-crunch-hockey/
LOCATION:Upstate Medical University Arena\, 515 Montgomery St\, Syracuse\, New York\, 13202
CATEGORIES:Discounts
ATTACH;FMTTYPE=image/jpeg:https://www.pricechopper.com/wp-content/uploads/2023/11/SyracuseCrunch_web_300x300.jpg
END:VEVENT
BEGIN:VEVENT
DTSTART;TZID=America/New_York:20231015T000000
DTEND;TZID=America/New_York:20240302T235959
DTSTAMP:20260422T162616
CREATED:20231026T181553Z
LAST-MODIFIED:20231129T132617Z
UID:292767-1697328000-1709423999@www.pricechopper.com
SUMMARY:Binghamton University Athletics
DESCRIPTION:Price Chopper/Market 32 is proud to support Binghamton University Athletics! Save $3 off men’s & women’s basketball home games.
URL:https://www.pricechopper.com/event/binghamton-university-athletics-3/
LOCATION:Dr. Bai Lee Court\, Binghamton University\, 4400 Vestal Parkway East\, Binghamton\, New York\, 13902
CATEGORIES:Discounts
ATTACH;FMTTYPE=image/jpeg:https://www.pricechopper.com/wp-content/uploads/2022/10/BinghamtonUniversity_19_web_300x300.jpg
END:VEVENT
BEGIN:VEVENT
DTSTART;TZID=America/New_York:20231015T000000
DTEND;TZID=America/New_York:20240224T235959
DTSTAMP:20260422T162616
CREATED:20231026T181307Z
LAST-MODIFIED:20231026T181308Z
UID:292765-1697328000-1708819199@www.pricechopper.com
SUMMARY:RPI Hockey
DESCRIPTION:Save $2 with AdvantEdge card at RPI hockey home games!
URL:https://www.pricechopper.com/event/rpi-hockey-2/
LOCATION:ECAV Stadium\, RPI\, Troy\, New York
CATEGORIES:Discounts
ATTACH;FMTTYPE=image/jpeg:https://www.pricechopper.com/wp-content/uploads/2023/10/RPI_web_300x300.jpg
END:VEVENT
BEGIN:VEVENT
DTSTART;TZID=America/New_York:20231015T000000
DTEND;TZID=America/New_York:20240224T235959
DTSTAMP:20260422T162616
CREATED:20231026T181047Z
LAST-MODIFIED:20231026T181049Z
UID:292763-1697328000-1708819199@www.pricechopper.com
SUMMARY:Union College Hockey
DESCRIPTION:Save $2 with AdvantEdge card at Union hockey home games!
URL:https://www.pricechopper.com/event/union-college-hockey-2/
LOCATION:Frank Bailey Field\, Union College\, Schenectady\, New York
CATEGORIES:Discounts
ATTACH;FMTTYPE=image/jpeg:https://www.pricechopper.com/wp-content/uploads/2023/10/Union_web_300x300.jpg
END:VEVENT
BEGIN:VEVENT
DTSTART;TZID=America/New_York:20231001T000000
DTEND;TZID=America/New_York:20240420T235959
DTSTAMP:20260422T162616
CREATED:20231003T121419Z
LAST-MODIFIED:20231003T121420Z
UID:292649-1696118400-1713657599@www.pricechopper.com
SUMMARY:Utica Comets Hockey
DESCRIPTION:Price Chopper/Market 32 is proud to support Utica Comets Hockey! Save $2 off ALL home games!
URL:https://www.pricechopper.com/event/utica-comets-hockey-2/
LOCATION:Adirondack Bank Center\, 400 Oriskany St\, W Utica\, New York
CATEGORIES:Discounts
ATTACH;FMTTYPE=image/jpeg:https://www.pricechopper.com/wp-content/uploads/2021/12/UticaComets_web_300x300.jpg
END:VEVENT
BEGIN:VEVENT
DTSTART;TZID=America/New_York:20231001T000000
DTEND;TZID=America/New_York:20240413T235959
DTSTAMP:20260422T162616
CREATED:20231002T143905Z
LAST-MODIFIED:20231002T143906Z
UID:292633-1696118400-1713052799@www.pricechopper.com
SUMMARY:Binghamton Black Bears Hockey
DESCRIPTION:Price Chopper/Market 32 is proud to support Binghamton Black Bears Hockey! Save up to $5 off ALL home games! 
URL:https://www.pricechopper.com/event/binghamton-black-bears-hockey-2/
LOCATION:Visions Veterans Memorial Arena\, 1 Stuart St\, Binghamton\, ny\, 13901
CATEGORIES:Discounts
ATTACH;FMTTYPE=image/jpeg:https://www.pricechopper.com/wp-content/uploads/2023/10/blackbears_web_300x300_23.jpg
END:VEVENT
BEGIN:VEVENT
DTSTART;TZID=America/New_York:20230524T000000
DTEND;TZID=America/New_York:20230806T235959
DTSTAMP:20260422T162616
CREATED:20230713T133005Z
LAST-MODIFIED:20230713T133005Z
UID:292227-1684886400-1691366399@www.pricechopper.com
SUMMARY:Vermont Lake Monsters
DESCRIPTION:Show your advantedge card at the box office and save $2 off all Tuesday and Wednesday home games! 
URL:https://www.pricechopper.com/event/vermont-lake-monsters/
LOCATION:Centennial Field\, 98 University Rd\, Burlington\, Vermont\, 05401
CATEGORIES:Discounts
ATTACH;FMTTYPE=image/jpeg:https://www.pricechopper.com/wp-content/uploads/2022/05/vtlakemonsters_300x300_22.jpg
END:VEVENT
BEGIN:VEVENT
DTSTART;TZID=America/New_York:20230524T000000
DTEND;TZID=America/New_York:20230806T235959
DTSTAMP:20260422T162616
CREATED:20230713T132729Z
LAST-MODIFIED:20230713T132730Z
UID:292225-1684886400-1691366399@www.pricechopper.com
SUMMARY:Pittsfield Suns Baseball
DESCRIPTION:Price Chopper/Market 32 is proud to support the Pittsfield Suns! Save $1 on general admission tickets to any home game!
URL:https://www.pricechopper.com/event/pittsfield-suns-baseball/
LOCATION:105 Wahconah Street\, 105 Wahconah Street\, Pittsfield\, Massachusetts\, 01201\, United States
CATEGORIES:Discounts
ATTACH;FMTTYPE=image/jpeg:https://www.pricechopper.com/wp-content/uploads/2022/06/pittsfieldsuns_web_22.jpg
END:VEVENT
BEGIN:VEVENT
DTSTART;TZID=America/New_York:20230524T000000
DTEND;TZID=America/New_York:20230806T235959
DTSTAMP:20260422T162616
CREATED:20230713T132402Z
LAST-MODIFIED:20230713T132427Z
UID:292223-1684886400-1691366399@www.pricechopper.com
SUMMARY:Worcester Bravehearts Baseball
DESCRIPTION:Price Chopper/Market 32 is proud to support the Worcester Bravehearts! Save $5 on general admission tickets to any Friday or Saturday home game! Limit 4 tickets per card! 
URL:https://www.pricechopper.com/event/worcester-bravehearts-2/
LOCATION:Fitton Field\, 1 College Street\, Worcester\, Massachusetts\, 01610\, United States
CATEGORIES:Discounts
ATTACH;FMTTYPE=image/jpeg:https://www.pricechopper.com/wp-content/uploads/2022/05/WorcesterBravehearts_22_web.jpg
END:VEVENT
BEGIN:VEVENT
DTSTART;TZID=America/New_York:20230429T000000
DTEND;TZID=America/New_York:20231001T235959
DTSTAMP:20260422T162616
CREATED:20230713T131927Z
LAST-MODIFIED:20230713T131928Z
UID:292221-1682726400-1696204799@www.pricechopper.com
SUMMARY:Quassy Amusement Park
DESCRIPTION:Save $3 on the $41.99 All-Day Ride and Waterpark Pass with your AdvantEdge card (not valid July 4th or with any other discount). Visit quassy.com for additional details and park hours!
URL:https://www.pricechopper.com/event/quassy-amusement-park-2/
LOCATION:Quassy Amusement Park\, 2132 Middlebury Rd\, Middlebury\, Connecticut\, 06762
CATEGORIES:Discounts
ATTACH;FMTTYPE=image/jpeg:https://www.pricechopper.com/wp-content/uploads/2023/05/Quassy_web_300x300.jpg
END:VEVENT
BEGIN:VEVENT
DTSTART;TZID=America/New_York:20230402T000000
DTEND;TZID=America/New_York:20230917T235959
DTSTAMP:20260422T162616
CREATED:20230712T151212Z
LAST-MODIFIED:20230712T151213Z
UID:292211-1680393600-1694995199@www.pricechopper.com
SUMMARY:Binghamton Rumble Ponies
DESCRIPTION:Save $2 with your AdvantEdge card off regularly priced admission for all home games!
URL:https://www.pricechopper.com/event/binghamton-rumble-ponies-3/
LOCATION:Mirabito Stadium\, 211 Henry Street\, Binghamton\, NY 13901\, 211 Henry Street\, Binghamton\, New York\, 13901\, United States
CATEGORIES:Discounts
ATTACH;FMTTYPE=image/jpeg:https://www.pricechopper.com/wp-content/uploads/2023/07/binghamtonrumbleponies_web_21.jpg
END:VEVENT
BEGIN:VEVENT
DTSTART;TZID=America/New_York:20230402T000000
DTEND;TZID=America/New_York:20230917T235959
DTSTAMP:20260422T162616
CREATED:20230711T160333Z
LAST-MODIFIED:20230711T181400Z
UID:209844-1680393600-1694995199@www.pricechopper.com
SUMMARY:Binghamton Rumble Ponies
DESCRIPTION:Save $2 with your AdvantEdge card off regularly priced admission for all home games!
URL:https://www.pricechopper.com/event/binghamton-rumble-ponies-2/
LOCATION:Mirabito Stadium\, 211 Henry Street\, Binghamton\, NY 13901\, 211 Henry Street\, Binghamton\, New York\, 13901\, United States
CATEGORIES:Discounts
END:VEVENT
BEGIN:VEVENT
DTSTART;TZID=America/New_York:20230401T000000
DTEND;TZID=America/New_York:20230902T235959
DTSTAMP:20260422T162616
CREATED:20230718T192002Z
LAST-MODIFIED:20230718T192003Z
UID:292275-1680307200-1693699199@www.pricechopper.com
SUMMARY:Scranton/Wilkes Barre Railriders
DESCRIPTION:Join Price Chopper/Market 32 for some between inning fun with the Scranton/Wilkes Barre Railriders! Show your Advantedge card at the box office and receive $2 off a field reserve level seat at any Monday-Thursday home game. Limit 4 tickets per card\, tickets are based on availability and not valid with any other offers or discounts.
URL:https://www.pricechopper.com/event/scranton-wilkes-barre-railriders-3/
LOCATION:PNC Field- Moosic\, PA\, 235 Montage Mountain Road\, Moosic\, Pennsylvania\, 18507\, United States
CATEGORIES:Discounts
ATTACH;FMTTYPE=image/jpeg:https://www.pricechopper.com/wp-content/uploads/2023/04/swb-railriders-web_22.jpg
END:VEVENT
BEGIN:VEVENT
DTSTART;TZID=America/New_York:20230401T000000
DTEND;TZID=America/New_York:20230924T235959
DTSTAMP:20260422T162616
CREATED:20230712T150533Z
LAST-MODIFIED:20230712T151241Z
UID:292208-1680307200-1695599999@www.pricechopper.com
SUMMARY:Syracuse Mets Baseball
DESCRIPTION:Price Chopper/Market 32 is proud to support the Syracuse Mets! Save $2 on all home games with your Advantedge Card. Only valid for general admission tickets.
URL:https://www.pricechopper.com/event/syracuse-mets-baseball/
LOCATION:MBNT Bank Stadium\, 1 Tex Simon Drive\, Syracuse\, New York\, 13208\, United States
CATEGORIES:Discounts
ATTACH;FMTTYPE=image/jpeg:https://www.pricechopper.com/wp-content/uploads/2023/07/syracuse-mets_web_23_300x300.jpg
END:VEVENT
BEGIN:VEVENT
DTSTART;TZID=America/New_York:20221218T000000
DTEND;TZID=America/New_York:20230831T235959
DTSTAMP:20260422T162616
CREATED:20230712T152510Z
LAST-MODIFIED:20230712T152511Z
UID:292216-1671321600-1693526399@www.pricechopper.com
SUMMARY:Capital Region Golf Card 2023
DESCRIPTION:Save $5 off the Capital Region Golf Card at the Guest Service Desk of select Price Chopper/Market 32 locations. \n\n\n\n\nLimited availability at select stores: Eastern Pkwy\, Brunswick\, Johnstown\, Madison Ave.\, Hamilton Square\, Cohoes\, Glenville\, Wilton\, Glen St.\, Catskill\, Delaware Ave.\, Mechanicville\, E. Greenbush\, CSW\, Cobleskill\, Westgate\, Market Bistro\, Amsterdam\, Granville\, Route 50\, Bethlehem\, Palatine Bridge\, Lake George\, Altamont Ave\, HVP\, Guilderland\, Malta\, Shaker Road\, Niskayuna\, Saugerties\, Gloversville\, Glenmont\, Colonie\, Watervliet\, Chatham\, Clifton Park
URL:https://www.pricechopper.com/event/capital-region-golf-card-2023/
LOCATION:Price Chopper\, 15 Park Ave\, Clifton Park\, New York\, 12065\, United States
CATEGORIES:Discounts
ATTACH;FMTTYPE=image/jpeg:https://www.pricechopper.com/wp-content/uploads/2023/07/golf-card_web_300x300.jpg
END:VEVENT
BEGIN:VEVENT
DTSTART;TZID=America/New_York:20221113T000000
DTEND;TZID=America/New_York:20230826T235959
DTSTAMP:20260422T162616
CREATED:20230712T151757Z
LAST-MODIFIED:20230712T151758Z
UID:292213-1668297600-1693094399@www.pricechopper.com
SUMMARY:Playhouse Stage Company
DESCRIPTION:AdvantEdge card members can use code Market32 to get $5 off any adult ticket to the performance(s) of their choice during Playhouse Stage Company’s 2022-2023 season at the Cohoes Music Hall and Park Playhouse\, including their productions of The Flick\, Frozen Jr.\, [title of show]\, The Lightning Thief: The Percy Jackson Musical\, Pinkalicious\, Afterlife: A Ghost Story\, Something Rotten\, The Secret Garden\, and Joseph and the Amazing Technicolor Dreamcoat. The code is valid online\, by phone\, and in person at the Box Office.
URL:https://www.pricechopper.com/event/playhouse-stage-company-2/
LOCATION:Cohoes Music Hall\, 58 Remsen Street\, Cohoes\, New York\, 12407\, United States
CATEGORIES:Discounts
ATTACH;FMTTYPE=image/jpeg:https://www.pricechopper.com/wp-content/uploads/2023/07/playhouse_web.jpg
END:VEVENT
END:VCALENDAR