BEGIN:VCALENDAR
VERSION:2.0
PRODID:-//Price Chopper - Market 32 - ECPv6.15.18//NONSGML v1.0//EN
CALSCALE:GREGORIAN
METHOD:PUBLISH
X-WR-CALNAME:Price Chopper - Market 32
X-ORIGINAL-URL:https://www.pricechopper.com
X-WR-CALDESC:Events for Price Chopper - Market 32
REFRESH-INTERVAL;VALUE=DURATION:PT1H
X-Robots-Tag:noindex
X-PUBLISHED-TTL:PT1H
BEGIN:VTIMEZONE
TZID:America/New_York
BEGIN:DAYLIGHT
TZOFFSETFROM:-0500
TZOFFSETTO:-0400
TZNAME:EDT
DTSTART:20240310T070000
END:DAYLIGHT
BEGIN:STANDARD
TZOFFSETFROM:-0400
TZOFFSETTO:-0500
TZNAME:EST
DTSTART:20241103T060000
END:STANDARD
BEGIN:DAYLIGHT
TZOFFSETFROM:-0500
TZOFFSETTO:-0400
TZNAME:EDT
DTSTART:20250309T070000
END:DAYLIGHT
BEGIN:STANDARD
TZOFFSETFROM:-0400
TZOFFSETTO:-0500
TZNAME:EST
DTSTART:20251102T060000
END:STANDARD
BEGIN:DAYLIGHT
TZOFFSETFROM:-0500
TZOFFSETTO:-0400
TZNAME:EDT
DTSTART:20260308T070000
END:DAYLIGHT
BEGIN:STANDARD
TZOFFSETFROM:-0400
TZOFFSETTO:-0500
TZNAME:EST
DTSTART:20261101T060000
END:STANDARD
BEGIN:DAYLIGHT
TZOFFSETFROM:-0500
TZOFFSETTO:-0400
TZNAME:EDT
DTSTART:20270314T070000
END:DAYLIGHT
BEGIN:STANDARD
TZOFFSETFROM:-0400
TZOFFSETTO:-0500
TZNAME:EST
DTSTART:20271107T060000
END:STANDARD
END:VTIMEZONE
BEGIN:VEVENT
DTSTART;TZID=America/New_York:20251012T000000
DTEND;TZID=America/New_York:20260228T235959
DTSTAMP:20260422T183434
CREATED:20251013T155046Z
LAST-MODIFIED:20251013T155333Z
UID:297069-1760227200-1772323199@www.pricechopper.com
SUMMARY:Binghamton University Athletics
DESCRIPTION:Market 32 and Price Chopper is proud to support Binghamton University Athletics! Show your AdvantEdge card at the box office and save up to $3 for Mens and Womens Basketball tickets! Compete in our “Dress like a Bearcat” competition to win!
URL:https://www.pricechopper.com/event/binghamton-university-athletics-5/
LOCATION:Binghamton University Events Center\, 4400 Vestal Pkwy E\, Vestal\, New York\, 13850
CATEGORIES:Discounts
ATTACH;FMTTYPE=image/jpeg:https://www.pricechopper.com/wp-content/uploads/2025/10/BinghamtonUniversity_web_300x300.jpg
END:VEVENT
BEGIN:VEVENT
DTSTART;TZID=America/New_York:20251012T000000
DTEND;TZID=America/New_York:20260418T235959
DTSTAMP:20260422T183434
CREATED:20251013T155311Z
LAST-MODIFIED:20251013T155312Z
UID:297071-1760227200-1776556799@www.pricechopper.com
SUMMARY:Syracuse Crunch Hockey
DESCRIPTION:Market 32 and Price Chopper are proud to support the Syracuse Crunch! For each home win\, Price Chopper Cares will donate 200 meals to our partners at the Food Bank of CNY. Save over $10 on select home games by showing your AdvantEdge Card at box office. \n\n\n\n– Oct. 18 \n\n\n\n– Oct. 31 \n\n\n\n– Nov. 29 \n\n\n\n– Jan. 10 \n\n\n\n– Feb. 21 \n\n\n\n– March 1 \n\n\n\n– March 13 \n\n\n\n– April 8 \n\n\n\nwww.syracusecrunch.com/pricechopper.
URL:https://www.pricechopper.com/event/syracuse-crunch-hockey-3/
LOCATION:Upstate Medical University Arena\, 515 Montgomery St\, Syracuse\, New York\, 13202
CATEGORIES:Discounts
ATTACH;FMTTYPE=image/jpeg:https://www.pricechopper.com/wp-content/uploads/2025/10/SyracuseCrunch_web_300x300.jpg
END:VEVENT
BEGIN:VEVENT
DTSTART;TZID=America/New_York:20251012T000000
DTEND;TZID=America/New_York:20260412T235959
DTSTAMP:20260422T183434
CREATED:20251013T155830Z
LAST-MODIFIED:20251013T155833Z
UID:297077-1760227200-1776038399@www.pricechopper.com
SUMMARY:Binghamton Black Bears Hockey
DESCRIPTION:Join Market 32 and Price Chopper for another exiciting season of Pens hockey! For every home win\, Market 32 Cares will donate 100 meals to CEO Weinberg Food Bank.
URL:https://www.pricechopper.com/event/binghamton-black-bears-hockey-3/
LOCATION:Visions Veterans Memorial Arena\, 1 Stuart St\, Binghamton\, ny\, 13901
CATEGORIES:Discounts
ATTACH;FMTTYPE=image/jpeg:https://www.pricechopper.com/wp-content/uploads/2025/10/blackbears_25_web_300x300.jpg
END:VEVENT
BEGIN:VEVENT
DTSTART;TZID=America/New_York:20251012T000000
DTEND;TZID=America/New_York:20260412T235959
DTSTAMP:20260422T183434
CREATED:20251013T160001Z
LAST-MODIFIED:20251013T160003Z
UID:297079-1760227200-1776038399@www.pricechopper.com
SUMMARY:Adirondack Thunder Hockey
DESCRIPTION:Market 32 and Price Chopper are proud to support the Adirondack Thunder! For every 32 shots on goal Market 32 Cares will donate 1\,000 meals to our partners at the Food Bank of NENY. Save $4 with AdvantEdge card off Adirondack Thunder’s Friday home games!
URL:https://www.pricechopper.com/event/adirondack-thunder-hockey/
LOCATION:Cool Insuring Arena\, 1 Civic Center Plaza\, Glens Falls\, New York\, 12801
CATEGORIES:Discounts
ATTACH;FMTTYPE=image/jpeg:https://www.pricechopper.com/wp-content/uploads/2025/10/Adk-Thunder_Web_300x300.jpg
END:VEVENT
END:VCALENDAR