BEGIN:VCALENDAR
VERSION:2.0
PRODID:-//Price Chopper - Market 32 - ECPv6.15.18//NONSGML v1.0//EN
CALSCALE:GREGORIAN
METHOD:PUBLISH
X-WR-CALNAME:Price Chopper - Market 32
X-ORIGINAL-URL:https://www.pricechopper.com
X-WR-CALDESC:Events for Price Chopper - Market 32
REFRESH-INTERVAL;VALUE=DURATION:PT1H
X-Robots-Tag:noindex
X-PUBLISHED-TTL:PT1H
BEGIN:VTIMEZONE
TZID:America/New_York
BEGIN:DAYLIGHT
TZOFFSETFROM:-0500
TZOFFSETTO:-0400
TZNAME:EDT
DTSTART:20240310T070000
END:DAYLIGHT
BEGIN:STANDARD
TZOFFSETFROM:-0400
TZOFFSETTO:-0500
TZNAME:EST
DTSTART:20241103T060000
END:STANDARD
BEGIN:DAYLIGHT
TZOFFSETFROM:-0500
TZOFFSETTO:-0400
TZNAME:EDT
DTSTART:20250309T070000
END:DAYLIGHT
BEGIN:STANDARD
TZOFFSETFROM:-0400
TZOFFSETTO:-0500
TZNAME:EST
DTSTART:20251102T060000
END:STANDARD
BEGIN:DAYLIGHT
TZOFFSETFROM:-0500
TZOFFSETTO:-0400
TZNAME:EDT
DTSTART:20260308T070000
END:DAYLIGHT
BEGIN:STANDARD
TZOFFSETFROM:-0400
TZOFFSETTO:-0500
TZNAME:EST
DTSTART:20261101T060000
END:STANDARD
END:VTIMEZONE
BEGIN:VEVENT
DTSTART;TZID=America/New_York:20250406T000000
DTEND;TZID=America/New_York:20251025T235959
DTSTAMP:20260423T195055
CREATED:20250326T200305Z
LAST-MODIFIED:20250326T200307Z
UID:295977-1743897600-1761436799@www.pricechopper.com
SUMMARY:Hartford Athletic
DESCRIPTION:Save 15% with your AdvantEdge card off general admission tickets to all Hartford Athletic home games at Trinity Health Stadium. Show your AdvantEdge card at the box office to redeem this amazing discount!
URL:https://www.pricechopper.com/event/hartford-athletic/
LOCATION:Trinity Health Stadium\, 250 Huyshope Ave\, Hartford\, Connecticut\, 06106
CATEGORIES:Discounts
ATTACH;FMTTYPE=image/jpeg:https://www.pricechopper.com/wp-content/uploads/2025/03/HartfordAthletics_25_web_300x300.jpg
END:VEVENT
END:VCALENDAR