BEGIN:VCALENDAR
VERSION:2.0
PRODID:-//Price Chopper - Market 32 - ECPv6.15.18//NONSGML v1.0//EN
CALSCALE:GREGORIAN
METHOD:PUBLISH
X-WR-CALNAME:Price Chopper - Market 32
X-ORIGINAL-URL:https://www.pricechopper.com
X-WR-CALDESC:Events for Price Chopper - Market 32
REFRESH-INTERVAL;VALUE=DURATION:PT1H
X-Robots-Tag:noindex
X-PUBLISHED-TTL:PT1H
BEGIN:VTIMEZONE
TZID:America/New_York
BEGIN:DAYLIGHT
TZOFFSETFROM:-0500
TZOFFSETTO:-0400
TZNAME:EDT
DTSTART:20230312T070000
END:DAYLIGHT
BEGIN:STANDARD
TZOFFSETFROM:-0400
TZOFFSETTO:-0500
TZNAME:EST
DTSTART:20231105T060000
END:STANDARD
BEGIN:DAYLIGHT
TZOFFSETFROM:-0500
TZOFFSETTO:-0400
TZNAME:EDT
DTSTART:20240310T070000
END:DAYLIGHT
BEGIN:STANDARD
TZOFFSETFROM:-0400
TZOFFSETTO:-0500
TZNAME:EST
DTSTART:20241103T060000
END:STANDARD
BEGIN:DAYLIGHT
TZOFFSETFROM:-0500
TZOFFSETTO:-0400
TZNAME:EDT
DTSTART:20250309T070000
END:DAYLIGHT
BEGIN:STANDARD
TZOFFSETFROM:-0400
TZOFFSETTO:-0500
TZNAME:EST
DTSTART:20251102T060000
END:STANDARD
BEGIN:DAYLIGHT
TZOFFSETFROM:-0500
TZOFFSETTO:-0400
TZNAME:EDT
DTSTART:20260308T070000
END:DAYLIGHT
BEGIN:STANDARD
TZOFFSETFROM:-0400
TZOFFSETTO:-0500
TZNAME:EST
DTSTART:20261101T060000
END:STANDARD
END:VTIMEZONE
BEGIN:VEVENT
DTSTART;TZID=America/New_York:20241219T000000
DTEND;TZID=America/New_York:20250831T235959
DTSTAMP:20260424T004729
CREATED:20241219T211003Z
LAST-MODIFIED:20241219T211004Z
UID:295354-1734566400-1756684799@www.pricechopper.com
SUMMARY:Capital Region Golf Card
DESCRIPTION:Save $5 off the Capital Region Golf Card at the Guest Service Desk of select Market 32 & Price Chopper locations.
URL:https://www.pricechopper.com/event/capital-region-golf-card-2/
LOCATION:new york\, New York\, 12065
CATEGORIES:Discounts
ATTACH;FMTTYPE=image/jpeg:https://www.pricechopper.com/wp-content/uploads/2024/12/golf-card_web_25_300x300.jpg
END:VEVENT
BEGIN:VEVENT
DTSTART;TZID=America/New_York:20250330T000000
DTEND;TZID=America/New_York:20250913T235959
DTSTAMP:20260424T004729
CREATED:20250326T195319Z
LAST-MODIFIED:20250326T195320Z
UID:295967-1743292800-1757807999@www.pricechopper.com
SUMMARY:Binghamton Rumble Ponies
DESCRIPTION:Join us for another season of Rumble Ponies Baseball! Save $3 with your AdvantEdge card off regularly priced admission for all home games!
URL:https://www.pricechopper.com/event/binghamton-rumble-ponies-5/
LOCATION:Mirabito Stadium\, 211 Henry Street\, Binghamton\, New York\, 13901\, United States
CATEGORIES:Discounts
ATTACH;FMTTYPE=image/jpeg:https://www.pricechopper.com/wp-content/uploads/2025/03/binghamtonrumbleponies_web_25.jpg
END:VEVENT
BEGIN:VEVENT
DTSTART;TZID=America/New_York:20250330T000000
DTEND;TZID=America/New_York:20250913T235959
DTSTAMP:20260424T004729
CREATED:20250326T195455Z
LAST-MODIFIED:20250326T195457Z
UID:295969-1743292800-1757807999@www.pricechopper.com
SUMMARY:Scranton Wilkes-Barre RailRiders
DESCRIPTION:The RailRiders are back! Save $2 on Tuesday-Thursday home games with your AdvantEdge card.
URL:https://www.pricechopper.com/event/scranton-wilkes-barre-railriders-5/
LOCATION:PNC Field- Moosic\, PA\, 235 Montage Mountain Road\, Moosic\, Pennsylvania\, 18507\, United States
CATEGORIES:Discounts
ATTACH;FMTTYPE=image/jpeg:https://www.pricechopper.com/wp-content/uploads/2025/03/swb-railriders-web_25.jpg
END:VEVENT
BEGIN:VEVENT
DTSTART;TZID=America/New_York:20250330T000000
DTEND;TZID=America/New_York:20250913T235959
DTSTAMP:20260424T004729
CREATED:20250326T195758Z
LAST-MODIFIED:20250326T195800Z
UID:295971-1743292800-1757807999@www.pricechopper.com
SUMMARY:Syracuse Mets
DESCRIPTION:LETS-GO-METS! Save $4 on all home games by showing your AdvantEdge card at the box office.
URL:https://www.pricechopper.com/event/syracuse-mets-3/
LOCATION:NBT Bank Stadium\, 1 Tex Simone Drive\, Syracuse\, New York\, 13208\, United States
CATEGORIES:Discounts
ATTACH;FMTTYPE=image/jpeg:https://www.pricechopper.com/wp-content/uploads/2025/03/syracuse-mets_web_25_300x300.jpg
END:VEVENT
BEGIN:VEVENT
DTSTART;TZID=America/New_York:20250330T000000
DTEND;TZID=America/New_York:20250906T235959
DTSTAMP:20260424T004729
CREATED:20250326T200045Z
LAST-MODIFIED:20250326T200047Z
UID:295973-1743292800-1757203199@www.pricechopper.com
SUMMARY:Hudson Valley Renegades
DESCRIPTION:Join Market 32/Price Chopper for another season of Renegades Baseball! Save $1 on all Sunday Home Games this season. 
URL:https://www.pricechopper.com/event/hudson-valley-renegades-2/
LOCATION:Herritage Financial Park\, 1500 NY-9D\, Wappingers Falls\, New York\, 12590
CATEGORIES:Discounts
ATTACH;FMTTYPE=image/jpeg:https://www.pricechopper.com/wp-content/uploads/2025/03/HV-renegades_web_23.jpg
END:VEVENT
BEGIN:VEVENT
DTSTART;TZID=America/New_York:20250406T000000
DTEND;TZID=America/New_York:20251025T235959
DTSTAMP:20260424T004729
CREATED:20250326T200305Z
LAST-MODIFIED:20250326T200307Z
UID:295977-1743897600-1761436799@www.pricechopper.com
SUMMARY:Hartford Athletic
DESCRIPTION:Save 15% with your AdvantEdge card off general admission tickets to all Hartford Athletic home games at Trinity Health Stadium. Show your AdvantEdge card at the box office to redeem this amazing discount!
URL:https://www.pricechopper.com/event/hartford-athletic/
LOCATION:Trinity Health Stadium\, 250 Huyshope Ave\, Hartford\, Connecticut\, 06106
CATEGORIES:Discounts
ATTACH;FMTTYPE=image/jpeg:https://www.pricechopper.com/wp-content/uploads/2025/03/HartfordAthletics_25_web_300x300.jpg
END:VEVENT
BEGIN:VEVENT
DTSTART;TZID=America/New_York:20250518T000000
DTEND;TZID=America/New_York:20250802T235959
DTSTAMP:20260424T004729
CREATED:20250520T140227Z
LAST-MODIFIED:20250520T140228Z
UID:296273-1747526400-1754179199@www.pricechopper.com
SUMMARY:Vermont Lake Monsters
DESCRIPTION:Join Market 32/Price Chopper this season at the Vermont Lake Monsters! Check out Hotdog Hysteria and save $2 with your AdvantEdge card!
URL:https://www.pricechopper.com/event/vermont-lake-monsters-2/
LOCATION:287 Colchester Avenue\, 287 Colchester Avenue\, Burlington\, Vermont\, 05401\, United States
CATEGORIES:Discounts
ATTACH;FMTTYPE=image/png:https://www.pricechopper.com/wp-content/uploads/2025/05/VTLakeMonsters_25_web_300x300.png
END:VEVENT
BEGIN:VEVENT
DTSTART;TZID=America/New_York:20250608T000000
DTEND;TZID=America/New_York:20250723T235959
DTSTAMP:20260424T004729
CREATED:20250520T192845Z
LAST-MODIFIED:20250520T192846Z
UID:296296-1749340800-1753315199@www.pricechopper.com
SUMMARY:Watertown Rapids
DESCRIPTION:Experience an exciting season of baseball and unforgettable family fun with the Watertown Rapids! Show your AdvantEdge card at the gate and enjoy $2 off your ticket. Don’t miss your chance to be part of the action—grab your tickets today!
URL:https://www.pricechopper.com/event/watertown-rapids/
LOCATION:970 Coffeen St\, 970 Coffeen St\, Watertown\, New York\, 13601
CATEGORIES:Discounts
ATTACH;FMTTYPE=image/jpeg:https://www.pricechopper.com/wp-content/uploads/2025/05/WatertownRapids_25_web_300x300.jpg
END:VEVENT
BEGIN:VEVENT
DTSTART;TZID=America/New_York:20250619T000000
DTEND;TZID=America/New_York:20250809T235959
DTSTAMP:20260424T004729
CREATED:20250618T125233Z
LAST-MODIFIED:20250618T125234Z
UID:296440-1750291200-1754783999@www.pricechopper.com
SUMMARY:Worcester Bravehearts
DESCRIPTION:Save $5 with your Advantedge card off all Friday night home games! Show Advantedge card at ticket booth to receive the discount\, limit 4 tickets per card.
URL:https://www.pricechopper.com/event/worcester-bravehearts-3/
LOCATION:Fitton Field\, 1 College Street\, Worcester\, Massachusetts\, 01610\, United States
CATEGORIES:Discounts
ATTACH;FMTTYPE=image/jpeg:https://www.pricechopper.com/wp-content/uploads/2022/05/WorcesterBravehearts_22_web.jpg
END:VEVENT
BEGIN:VEVENT
DTSTART;TZID=America/New_York:20250629T000000
DTEND;TZID=America/New_York:20250823T235959
DTSTAMP:20260424T004729
CREATED:20250618T125759Z
LAST-MODIFIED:20250618T125801Z
UID:296444-1751155200-1755993599@www.pricechopper.com
SUMMARY:SPAC Discounted Tickets!
DESCRIPTION:Save $5 with your AdvantEdge Card at the box office to Saratoga Jazz Fest\, New York City Ballet\, and Philadelphia Orchestra!
URL:https://www.pricechopper.com/event/spac-discounted-tickets/
LOCATION:Saratoga Performing Arts Center\, 108 Avenue of the Pines\, Saratoga Springs\, New York\, 12866
CATEGORIES:Discounts
ATTACH;FMTTYPE=image/jpeg:https://www.pricechopper.com/wp-content/uploads/2024/06/spac_web_24.jpg
END:VEVENT
END:VCALENDAR