BEGIN:VCALENDAR
VERSION:2.0
PRODID:-//Price Chopper - Market 32 - ECPv6.15.18//NONSGML v1.0//EN
CALSCALE:GREGORIAN
METHOD:PUBLISH
X-WR-CALNAME:Price Chopper - Market 32
X-ORIGINAL-URL:https://www.pricechopper.com
X-WR-CALDESC:Events for Price Chopper - Market 32
REFRESH-INTERVAL;VALUE=DURATION:PT1H
X-Robots-Tag:noindex
X-PUBLISHED-TTL:PT1H
BEGIN:VTIMEZONE
TZID:America/New_York
BEGIN:DAYLIGHT
TZOFFSETFROM:-0500
TZOFFSETTO:-0400
TZNAME:EDT
DTSTART:20230312T070000
END:DAYLIGHT
BEGIN:STANDARD
TZOFFSETFROM:-0400
TZOFFSETTO:-0500
TZNAME:EST
DTSTART:20231105T060000
END:STANDARD
BEGIN:DAYLIGHT
TZOFFSETFROM:-0500
TZOFFSETTO:-0400
TZNAME:EDT
DTSTART:20240310T070000
END:DAYLIGHT
BEGIN:STANDARD
TZOFFSETFROM:-0400
TZOFFSETTO:-0500
TZNAME:EST
DTSTART:20241103T060000
END:STANDARD
BEGIN:DAYLIGHT
TZOFFSETFROM:-0500
TZOFFSETTO:-0400
TZNAME:EDT
DTSTART:20250309T070000
END:DAYLIGHT
BEGIN:STANDARD
TZOFFSETFROM:-0400
TZOFFSETTO:-0500
TZNAME:EST
DTSTART:20251102T060000
END:STANDARD
END:VTIMEZONE
BEGIN:VEVENT
DTSTART;TZID=America/New_York:20240114T000000
DTEND;TZID=America/New_York:20240831T235959
DTSTAMP:20260426T002455
CREATED:20240109T191611Z
LAST-MODIFIED:20240109T191612Z
UID:293034-1705190400-1725148799@www.pricechopper.com
SUMMARY:Capital Region Golf Card
DESCRIPTION:Save $5 off the Capital Region Golf Card at the Guest Service Desk of select Price Chopper/Market 32 locations.
URL:https://www.pricechopper.com/event/capital-region-golf-card/
LOCATION:new york\, New York\, 12065
CATEGORIES:Discounts
ATTACH;FMTTYPE=image/jpeg:https://www.pricechopper.com/wp-content/uploads/2024/01/golf-card_web_23_300x300.jpg
END:VEVENT
BEGIN:VEVENT
DTSTART;TZID=America/New_York:20240401T000000
DTEND;TZID=America/New_York:20240928T235959
DTSTAMP:20260426T002455
CREATED:20240402T184903Z
LAST-MODIFIED:20240402T184904Z
UID:293440-1711929600-1727567999@www.pricechopper.com
SUMMARY:Scranton Wilkes Barre Railriders
DESCRIPTION:Save $2 with your AdvantEdge card off Tuesday-Thursday home games! *Excludes July 4th*
URL:https://www.pricechopper.com/event/scranton-wilkes-barre-railriders-4/
LOCATION:235 montage Mountain Road\, Moosic\, Pennsylvania\, 12308
CATEGORIES:Discounts
ATTACH;FMTTYPE=image/jpeg:https://www.pricechopper.com/wp-content/uploads/2024/04/swb-railriders-web_23.jpg
END:VEVENT
BEGIN:VEVENT
DTSTART;TZID=America/New_York:20240401T000000
DTEND;TZID=America/New_York:20240921T235959
DTSTAMP:20260426T002455
CREATED:20240402T185438Z
LAST-MODIFIED:20240522T143025Z
UID:293443-1711929600-1726963199@www.pricechopper.com
SUMMARY:Syracuse Mets
DESCRIPTION:Save $4 with your AdvantEdge card off regualry priced tickets for all home games!
URL:https://www.pricechopper.com/event/syracuse-mets-2/
LOCATION:NBT Bank Stadium\, 1 Tex Simone Drive\, Syracuse\, New York\, 13208\, United States
CATEGORIES:Discounts
ATTACH;FMTTYPE=image/jpeg:https://www.pricechopper.com/wp-content/uploads/2024/04/syracuse-mets_web_24_300x300.jpg
END:VEVENT
BEGIN:VEVENT
DTSTART;TZID=America/New_York:20240405T000000
DTEND;TZID=America/New_York:20240907T235959
DTSTAMP:20260426T002455
CREATED:20240402T184340Z
LAST-MODIFIED:20240402T184340Z
UID:293437-1712275200-1725753599@www.pricechopper.com
SUMMARY:Binghamton Rumble Ponies
DESCRIPTION:Save $2 with your AdvantEdge card off regularly priced admission for all home games!
URL:https://www.pricechopper.com/event/binghamton-rumble-ponies-4/
LOCATION:Mirabito Stadium\, 211 Henry Street\, Binghamton\, New York\, 13901\, United States
CATEGORIES:Discounts
ATTACH;FMTTYPE=image/jpeg:https://www.pricechopper.com/wp-content/uploads/2024/04/binghamtonrumbleponies_web_24.jpg
END:VEVENT
BEGIN:VEVENT
DTSTART;TZID=America/New_York:20240519T000000
DTEND;TZID=America/New_York:20240803T235959
DTSTAMP:20260426T002455
CREATED:20240425T184408Z
LAST-MODIFIED:20240425T184410Z
UID:293590-1716076800-1722729599@www.pricechopper.com
SUMMARY:Vermont Lake Monsters Baseball
DESCRIPTION:Join Price Chopper/Market 32 this season at the Vermont Lake Monsters! Save $2 with your Advantadge card!
URL:https://www.pricechopper.com/event/vermont-lake-monsters-baseball/
LOCATION:287 Colchester Avenue\, 287 Colchester Avenue\, Burlington\, Vermont\, 05401\, United States
CATEGORIES:Discounts
ATTACH;FMTTYPE=image/png:https://www.pricechopper.com/wp-content/uploads/2024/04/Price-Chopper-website-ad.png
END:VEVENT
BEGIN:VEVENT
DTSTART;TZID=America/New_York:20240609T000000
DTEND;TZID=America/New_York:20240908T235959
DTSTAMP:20260426T002455
CREATED:20230713T134801Z
LAST-MODIFIED:20240516T180331Z
UID:292235-1717891200-1725839999@www.pricechopper.com
SUMMARY:Hudson Valley Renegades Baseball
DESCRIPTION:Save $1 for all Sunday home games with your Advantedge Card!
URL:https://www.pricechopper.com/event/hudson-valley-renegades-baseball/
LOCATION:Heritage Financial Park\, 1500 NY-9D\, Wappungers Falls\, New York\, United States
CATEGORIES:Discounts
ATTACH;FMTTYPE=image/jpeg:https://www.pricechopper.com/wp-content/uploads/2023/07/HV-renegades_fb_23.jpg
END:VEVENT
BEGIN:VEVENT
DTSTART;TZID=America/New_York:20240630T000000
DTEND;TZID=America/New_York:20240816T235959
DTSTAMP:20260426T002455
CREATED:20240627T184522Z
LAST-MODIFIED:20240627T184523Z
UID:294140-1719705600-1723852799@www.pricechopper.com
SUMMARY:SPAC Ballet and Orchestra
DESCRIPTION:Save $5 with your AdvantEdge Card at the box office to New York City Ballet and Philadelphia Orchestra!
URL:https://www.pricechopper.com/event/spac-ballet-and-orchestra/
LOCATION:Saratoga Performing Arts Center\, 108 Avenue of the Pines\, Saratoga Springs\, New York\, 12866
CATEGORIES:Discounts
ATTACH;FMTTYPE=image/jpeg:https://www.pricechopper.com/wp-content/uploads/2024/06/spac_web_24.jpg
END:VEVENT
BEGIN:VEVENT
DTSTART;TZID=America/New_York:20240826T160000
DTEND;TZID=America/New_York:20240826T190000
DTSTAMP:20260426T002455
CREATED:20240716T175820Z
LAST-MODIFIED:20240716T175821Z
UID:294244-1724688000-1724698800@www.pricechopper.com
SUMMARY:Utica Zoo - Free Admission Day!
DESCRIPTION:Create lifelong memories at the Utica Zoo! Free Admission to the zoo is available on August 26th courtesy of Price Chopper/Market 32.
URL:https://www.pricechopper.com/event/utica-zoo-free-admission-day-2/
LOCATION:Utica Zoo\, 1 Utica Zoo Way\, Utica\, New York\, 13501
CATEGORIES:Discounts
ATTACH;FMTTYPE=image/jpeg:https://www.pricechopper.com/wp-content/uploads/2024/07/UticaZoo_web_Aug26_24.jpg
END:VEVENT
END:VCALENDAR