BEGIN:VCALENDAR
VERSION:2.0
PRODID:-//Price Chopper - Market 32 - ECPv6.15.18//NONSGML v1.0//EN
CALSCALE:GREGORIAN
METHOD:PUBLISH
X-ORIGINAL-URL:https://www.pricechopper.com
X-WR-CALDESC:Events for Price Chopper - Market 32
REFRESH-INTERVAL;VALUE=DURATION:PT1H
X-Robots-Tag:noindex
X-PUBLISHED-TTL:PT1H
BEGIN:VTIMEZONE
TZID:America/New_York
BEGIN:DAYLIGHT
TZOFFSETFROM:-0500
TZOFFSETTO:-0400
TZNAME:EDT
DTSTART:20240310T070000
END:DAYLIGHT
BEGIN:STANDARD
TZOFFSETFROM:-0400
TZOFFSETTO:-0500
TZNAME:EST
DTSTART:20241103T060000
END:STANDARD
BEGIN:DAYLIGHT
TZOFFSETFROM:-0500
TZOFFSETTO:-0400
TZNAME:EDT
DTSTART:20250309T070000
END:DAYLIGHT
BEGIN:STANDARD
TZOFFSETFROM:-0400
TZOFFSETTO:-0500
TZNAME:EST
DTSTART:20251102T060000
END:STANDARD
BEGIN:DAYLIGHT
TZOFFSETFROM:-0500
TZOFFSETTO:-0400
TZNAME:EDT
DTSTART:20260308T070000
END:DAYLIGHT
BEGIN:STANDARD
TZOFFSETFROM:-0400
TZOFFSETTO:-0500
TZNAME:EST
DTSTART:20261101T060000
END:STANDARD
BEGIN:DAYLIGHT
TZOFFSETFROM:-0500
TZOFFSETTO:-0400
TZNAME:EDT
DTSTART:20270314T070000
END:DAYLIGHT
BEGIN:STANDARD
TZOFFSETFROM:-0400
TZOFFSETTO:-0500
TZNAME:EST
DTSTART:20271107T060000
END:STANDARD
END:VTIMEZONE
BEGIN:VEVENT
DTSTART;TZID=America/New_York:20250914T080000
DTEND;TZID=America/New_York:20260605T170000
DTSTAMP:20260421T210548
CREATED:20250915T200951Z
LAST-MODIFIED:20250924T200936Z
UID:296894-1757836800-1780678800@www.pricechopper.com
SUMMARY:VT High School Food Drive State Championship
DESCRIPTION:Market 32 and Price Chopper are teaming up with Vermont Principals’ Association to host the first annual Food Drive State Championship! Help your local high school win up to $1\,500 in prizes. Each high school will be collecting non-perishable items to help fight hunger in their local communities. Items will be collected at high schools and winners will be announced in the Spring. For more information visit: vpaonline.org/market-32-price-chopper
URL:https://www.pricechopper.com/event/vt-high-school-food-drive-state-championship/
LOCATION:vermont\, Vermont
ATTACH;FMTTYPE=image/jpeg:https://www.pricechopper.com/wp-content/uploads/2025/09/VPA-foodrive_25_web_300x300.jpg
END:VEVENT
BEGIN:VEVENT
DTSTART;TZID=America/New_York:20251005T000000
DTEND;TZID=America/New_York:20260418T235959
DTSTAMP:20260421T210548
CREATED:20251013T155510Z
LAST-MODIFIED:20251013T155511Z
UID:297073-1759622400-1776556799@www.pricechopper.com
SUMMARY:Utica Comets Hockey
DESCRIPTION:Market 32 and Pirce Chopper are proud to support Utica Comets Hockey! When the Comets win at home by a score of 3-2\, we will donate 1\,000 meals to Feed Our Vets.
URL:https://www.pricechopper.com/event/utica-comets-hockey-3/
LOCATION:Adirondack Bank Center\, 400 Oriskany St\, W Utica\, New York
ATTACH;FMTTYPE=image/jpeg:https://www.pricechopper.com/wp-content/uploads/2025/10/UticaComets_web_300x300.jpg
END:VEVENT
BEGIN:VEVENT
DTSTART;TZID=America/New_York:20251012T000000
DTEND;TZID=America/New_York:20260418T235959
DTSTAMP:20260421T210548
CREATED:20251013T155311Z
LAST-MODIFIED:20251013T155312Z
UID:297071-1760227200-1776556799@www.pricechopper.com
SUMMARY:Syracuse Crunch Hockey
DESCRIPTION:Market 32 and Price Chopper are proud to support the Syracuse Crunch! For each home win\, Price Chopper Cares will donate 200 meals to our partners at the Food Bank of CNY. Save over $10 on select home games by showing your AdvantEdge Card at box office. \n\n\n\n– Oct. 18 \n\n\n\n– Oct. 31 \n\n\n\n– Nov. 29 \n\n\n\n– Jan. 10 \n\n\n\n– Feb. 21 \n\n\n\n– March 1 \n\n\n\n– March 13 \n\n\n\n– April 8 \n\n\n\nwww.syracusecrunch.com/pricechopper.
URL:https://www.pricechopper.com/event/syracuse-crunch-hockey-3/
LOCATION:Upstate Medical University Arena\, 515 Montgomery St\, Syracuse\, New York\, 13202
CATEGORIES:Discounts
ATTACH;FMTTYPE=image/jpeg:https://www.pricechopper.com/wp-content/uploads/2025/10/SyracuseCrunch_web_300x300.jpg
END:VEVENT
BEGIN:VEVENT
DTSTART;TZID=America/New_York:20251012T000000
DTEND;TZID=America/New_York:20260412T235959
DTSTAMP:20260421T210548
CREATED:20251013T155830Z
LAST-MODIFIED:20251013T155833Z
UID:297077-1760227200-1776038399@www.pricechopper.com
SUMMARY:Binghamton Black Bears Hockey
DESCRIPTION:Join Market 32 and Price Chopper for another exiciting season of Pens hockey! For every home win\, Market 32 Cares will donate 100 meals to CEO Weinberg Food Bank.
URL:https://www.pricechopper.com/event/binghamton-black-bears-hockey-3/
LOCATION:Visions Veterans Memorial Arena\, 1 Stuart St\, Binghamton\, ny\, 13901
CATEGORIES:Discounts
ATTACH;FMTTYPE=image/jpeg:https://www.pricechopper.com/wp-content/uploads/2025/10/blackbears_25_web_300x300.jpg
END:VEVENT
BEGIN:VEVENT
DTSTART;TZID=America/New_York:20251012T000000
DTEND;TZID=America/New_York:20260412T235959
DTSTAMP:20260421T210548
CREATED:20251013T160001Z
LAST-MODIFIED:20251013T160003Z
UID:297079-1760227200-1776038399@www.pricechopper.com
SUMMARY:Adirondack Thunder Hockey
DESCRIPTION:Market 32 and Price Chopper are proud to support the Adirondack Thunder! For every 32 shots on goal Market 32 Cares will donate 1\,000 meals to our partners at the Food Bank of NENY. Save $4 with AdvantEdge card off Adirondack Thunder’s Friday home games!
URL:https://www.pricechopper.com/event/adirondack-thunder-hockey/
LOCATION:Cool Insuring Arena\, 1 Civic Center Plaza\, Glens Falls\, New York\, 12801
CATEGORIES:Discounts
ATTACH;FMTTYPE=image/jpeg:https://www.pricechopper.com/wp-content/uploads/2025/10/Adk-Thunder_Web_300x300.jpg
END:VEVENT
BEGIN:VEVENT
DTSTART;TZID=America/New_York:20260118T000000
DTEND;TZID=America/New_York:20260516T235959
DTSTAMP:20260421T210548
CREATED:20260303T202617Z
LAST-MODIFIED:20260303T202618Z
UID:297839-1768694400-1778975999@www.pricechopper.com
SUMMARY:South Burlington Recreation & Parks Adaptive Programming Series
DESCRIPTION:Market 32 and Price Chopper is proud to support SBRP’s Adaptive Programming Series! Throughout the year\, different activities will be available specifically for those who experience physical or intellectual disabilities. Events are Free but do require registration. Visit SBRP’s website for more information. 1/18: Paint Night \n\n\n\n2/25: Cooking Night 3/21: Bowling 4/23: Gardening Additional Sport Clinics: Basketball: 2/7-2/21; 10:30-11:15 every Saturday\, Chamberlin School Baseball/Softball: 5/2-5/16 \n\n\n\nJanuary – Paint Night (January 28th)\, SB City Hall\, 5:30-7:00pm \n\n\n\nFebruary – Cooking Night (February 25th)\, SB City Hall\, 5:30-7:00pm \n\n\n\nMarch – Bowling (March 21st)\, Spare Time\, 11:00am-1:00pm \n\n\n\nApril – Gardening (April 23rd)\, SB City Hall\, 5:30-7:00pm \n\n\n\nMay – Shelburne Farms Trip (Date TBD) \n\n\n\nJune – Lake Monsters Game (June 20th)\, Centennial Field\, 6:05pm
URL:https://www.pricechopper.com/event/south-burlington-recreation-parks-adaptive-programming-series-2/
LOCATION:South Burlington\, Burlington\, Vermont\, 05403
ATTACH;FMTTYPE=image/jpeg:https://www.pricechopper.com/wp-content/uploads/2026/03/SBPR_26_web_300x300.jpg
END:VEVENT
BEGIN:VEVENT
DTSTART;TZID=America/New_York:20260301T000000
DTEND;TZID=America/New_York:20260331T235959
DTSTAMP:20260421T210548
CREATED:20260303T202116Z
LAST-MODIFIED:20260303T202137Z
UID:297831-1772323200-1775001599@www.pricechopper.com
SUMMARY:United Way Round Up Campaign
DESCRIPTION:United is the WayTo help local neighbors in needUnited Way supports local families by helping kids succeed\, connecting adults to jobs\, and improving access to health resources.Round up at the registerMarket 32 and Price Chopper will match funds raised\, up to $10\,000.
URL:https://www.pricechopper.com/event/united-way-round-up-campaign/
LOCATION:new york\, New York\, 12065
ATTACH;FMTTYPE=image/jpeg:https://www.pricechopper.com/wp-content/uploads/2026/03/Website_UW_M32_300-x-300-2.jpg
END:VEVENT
BEGIN:VEVENT
DTSTART;TZID=America/New_York:20260301T000000
DTEND;TZID=America/New_York:20260331T235959
DTSTAMP:20260421T210548
CREATED:20260303T202200Z
LAST-MODIFIED:20260303T202202Z
UID:297833-1772323200-1775001599@www.pricechopper.com
SUMMARY:United Way Round Up Campaign
DESCRIPTION:United is the WayTo help local neighbors in needUnited Way supports local families by helping kids succeed\, connecting adults to jobs\, and improving access to health resources.Round up at the registerMarket 32 and Price Chopper will match funds raised\, up to $10\,000.
URL:https://www.pricechopper.com/event/united-way-round-up-campaign-2/
LOCATION:New Hampshire\, New Hampshire
ATTACH;FMTTYPE=image/jpeg:https://www.pricechopper.com/wp-content/uploads/2026/03/Website_UW_M32_300-x-300-2.jpg
END:VEVENT
BEGIN:VEVENT
DTSTART;TZID=America/New_York:20260301T000000
DTEND;TZID=America/New_York:20260331T235959
DTSTAMP:20260421T210548
CREATED:20260303T202228Z
LAST-MODIFIED:20260303T202229Z
UID:297834-1772323200-1775001599@www.pricechopper.com
SUMMARY:United Way Round Up Campaign
DESCRIPTION:United is the WayTo help local neighbors in needUnited Way supports local families by helping kids succeed\, connecting adults to jobs\, and improving access to health resources.Round up at the registerMarket 32 and Price Chopper will match funds raised\, up to $10\,000.
URL:https://www.pricechopper.com/event/united-way-round-up-campaign-3/
LOCATION:vermont\, Vermont
ATTACH;FMTTYPE=image/jpeg:https://www.pricechopper.com/wp-content/uploads/2026/03/Website_UW_M32_300-x-300-2.jpg
END:VEVENT
BEGIN:VEVENT
DTSTART;TZID=America/New_York:20260301T000000
DTEND;TZID=America/New_York:20260331T235959
DTSTAMP:20260421T210548
CREATED:20260303T202258Z
LAST-MODIFIED:20260303T202258Z
UID:297835-1772323200-1775001599@www.pricechopper.com
SUMMARY:United Way Round Up Campaign
DESCRIPTION:United is the WayTo help local neighbors in needUnited Way supports local families by helping kids succeed\, connecting adults to jobs\, and improving access to health resources.Round up at the registerMarket 32 and Price Chopper will match funds raised\, up to $10\,000.
URL:https://www.pricechopper.com/event/united-way-round-up-campaign-4/
LOCATION:Connecticut\, Connecticut
ATTACH;FMTTYPE=image/jpeg:https://www.pricechopper.com/wp-content/uploads/2026/03/Website_UW_M32_300-x-300-2.jpg
END:VEVENT
BEGIN:VEVENT
DTSTART;TZID=America/New_York:20260301T000000
DTEND;TZID=America/New_York:20260331T235959
DTSTAMP:20260421T210548
CREATED:20260303T202332Z
LAST-MODIFIED:20260303T202333Z
UID:297836-1772323200-1775001599@www.pricechopper.com
SUMMARY:United Way Round Up Campaign
DESCRIPTION:United is the WayTo help local neighbors in needUnited Way supports local families by helping kids succeed\, connecting adults to jobs\, and improving access to health resources.Round up at the registerMarket 32 and Price Chopper will match funds raised\, up to $10\,000.
URL:https://www.pricechopper.com/event/united-way-round-up-campaign-5/
LOCATION:Pennsylvania\, Pennsylvania
ATTACH;FMTTYPE=image/jpeg:https://www.pricechopper.com/wp-content/uploads/2026/03/Website_UW_M32_300-x-300-2.jpg
END:VEVENT
BEGIN:VEVENT
DTSTART;TZID=America/New_York:20260301T000000
DTEND;TZID=America/New_York:20260331T235959
DTSTAMP:20260421T210548
CREATED:20260303T202409Z
LAST-MODIFIED:20260303T202410Z
UID:297838-1772323200-1775001599@www.pricechopper.com
SUMMARY:United Way Round Up Campaign
DESCRIPTION:United is the WayTo help local neighbors in needUnited Way supports local families by helping kids succeed\, connecting adults to jobs\, and improving access to health resources.Round up at the registerMarket 32 and Price Chopper will match funds raised\, up to $10\,000.
URL:https://www.pricechopper.com/event/united-way-round-up-campaign-6/
LOCATION:Massachusetts\, Massachusetts
ATTACH;FMTTYPE=image/jpeg:https://www.pricechopper.com/wp-content/uploads/2026/03/Website_UW_M32_300-x-300-2.jpg
END:VEVENT
BEGIN:VEVENT
DTSTART;TZID=America/New_York:20260301T000000
DTEND;TZID=America/New_York:20260430T235959
DTSTAMP:20260421T210548
CREATED:20260303T202802Z
LAST-MODIFIED:20260303T202805Z
UID:297841-1772323200-1777593599@www.pricechopper.com
SUMMARY:Parkinson's Foundation Fundraiser
DESCRIPTION:Join the fight against Parkinson’s and support the mission to improve care and advance research toward a cure. \n\n\n\nMarket 32 and Price Chopper and Freihofer’s will donate 10 cents to the Parkinson’s Foundation with the purchase of specially marked Freihofer’s products.
URL:https://www.pricechopper.com/event/parkinsons-foundation-fundraiser-12/
LOCATION:new york\, New York\, 12065
ATTACH;FMTTYPE=image/jpeg:https://www.pricechopper.com/wp-content/uploads/2026/03/parkinsons-nickle_26_web_300x300.jpg
END:VEVENT
BEGIN:VEVENT
DTSTART;TZID=America/New_York:20260301T000000
DTEND;TZID=America/New_York:20260430T235959
DTSTAMP:20260421T210548
CREATED:20260303T202915Z
LAST-MODIFIED:20260303T202916Z
UID:297843-1772323200-1777593599@www.pricechopper.com
SUMMARY:Parkinson's Foundation Fundraiser
DESCRIPTION:Join the fight against Parkinson’s and support the mission to improve care and advance research toward a cure. \n\n\n\nMarket 32 and Price Chopper and Freihofer’s will donate 10 cents to the Parkinson’s Foundation with the purchase of specially marked Freihofer’s products.
URL:https://www.pricechopper.com/event/parkinsons-foundation-fundraiser-13/
LOCATION:Connecticut\, Connecticut
ATTACH;FMTTYPE=image/jpeg:https://www.pricechopper.com/wp-content/uploads/2026/03/parkinsons-nickle_26_web_300x300.jpg
END:VEVENT
BEGIN:VEVENT
DTSTART;TZID=America/New_York:20260301T000000
DTEND;TZID=America/New_York:20260430T235959
DTSTAMP:20260421T210548
CREATED:20260303T203005Z
LAST-MODIFIED:20260303T203006Z
UID:297844-1772323200-1777593599@www.pricechopper.com
SUMMARY:Parkinson's Foundation Fundraiser
DESCRIPTION:Join the fight against Parkinson’s and support the mission to improve care and advance research toward a cure. \n\n\n\nMarket 32 and Price Chopper and Freihofer’s will donate 10 cents to the Parkinson’s Foundation with the purchase of specially marked Freihofer’s products.
URL:https://www.pricechopper.com/event/parkinsons-foundation-fundraiser-14/
LOCATION:vermont\, Vermont
ATTACH;FMTTYPE=image/jpeg:https://www.pricechopper.com/wp-content/uploads/2026/03/parkinsons-nickle_26_web_300x300.jpg
END:VEVENT
BEGIN:VEVENT
DTSTART;TZID=America/New_York:20260301T000000
DTEND;TZID=America/New_York:20260430T235959
DTSTAMP:20260421T210548
CREATED:20260303T203031Z
LAST-MODIFIED:20260303T203032Z
UID:297845-1772323200-1777593599@www.pricechopper.com
SUMMARY:Parkinson's Foundation Fundraiser
DESCRIPTION:Join the fight against Parkinson’s and support the mission to improve care and advance research toward a cure. \n\n\n\nMarket 32 and Price Chopper and Freihofer’s will donate 10 cents to the Parkinson’s Foundation with the purchase of specially marked Freihofer’s products.
URL:https://www.pricechopper.com/event/parkinsons-foundation-fundraiser-15/
LOCATION:New Hampshire\, New Hampshire
ATTACH;FMTTYPE=image/jpeg:https://www.pricechopper.com/wp-content/uploads/2026/03/parkinsons-nickle_26_web_300x300.jpg
END:VEVENT
BEGIN:VEVENT
DTSTART;TZID=America/New_York:20260301T000000
DTEND;TZID=America/New_York:20260430T235959
DTSTAMP:20260421T210548
CREATED:20260303T203058Z
LAST-MODIFIED:20260303T203059Z
UID:297846-1772323200-1777593599@www.pricechopper.com
SUMMARY:Parkinson's Foundation Fundraiser
DESCRIPTION:Join the fight against Parkinson’s and support the mission to improve care and advance research toward a cure. \n\n\n\nMarket 32 and Price Chopper and Freihofer’s will donate 10 cents to the Parkinson’s Foundation with the purchase of specially marked Freihofer’s products.
URL:https://www.pricechopper.com/event/parkinsons-foundation-fundraiser-16/
LOCATION:Massachusetts\, Massachusetts
ATTACH;FMTTYPE=image/jpeg:https://www.pricechopper.com/wp-content/uploads/2026/03/parkinsons-nickle_26_web_300x300.jpg
END:VEVENT
BEGIN:VEVENT
DTSTART;TZID=America/New_York:20260314T090000
DTEND;TZID=America/New_York:20260315T090000
DTSTAMP:20260421T210548
CREATED:20260303T203336Z
LAST-MODIFIED:20260303T203338Z
UID:297847-1773478800-1773565200@www.pricechopper.com
SUMMARY:24 Hours of Stratton
DESCRIPTION:Market 32 and Price Chopper is proud to support the 14th annual 24 Hours of Stratton festival weekend! Join us as we ski through the night all for charity. This is the only opportunity to ski under lighted trails at Stratton Mountain! Proceeds benefit The Stratton Community Foundation.
URL:https://www.pricechopper.com/event/24-hours-of-stratton-2/
LOCATION:Stratton Mountain Resort\, 5 Village Lodge Road\, Stratton\, Vermont\, 05155
ATTACH;FMTTYPE=image/png:https://www.pricechopper.com/wp-content/uploads/2026/03/Stratton24_26_web_300x300.png
END:VEVENT
END:VCALENDAR